BEGIN:VCALENDAR
VERSION:2.0
PRODID:-//www.bowluscenter.org//NONSGML kigkonsult.se iCalcreator 2.30.10//
CALSCALE:GREGORIAN
METHOD:PUBLISH
UID:a042435f-78b5-4446-85b9-e480a8d60b33
X-WR-CALDESC:Help us kick off the 24th (and final) Buster Keaton Celebratio
 n with a special screening of BENDER (2016)\, a Kansas film is based on th
 e true story of the 'Bloody Benders'\, America's first family of serial ki
 llers who ran a general store 50 miles south of Iola.  The film stars long
 -time friend of the Buster Keaton Celebration\, James Karen.\n\nThis is a 
 FREE event!  Doors open at 6:15 p.m.  No ticket required - general seating
 .
X-WR-RELCALID:dd9d18d4cef2f457e29cb773f5f02f05
X-WR-TIMEZONE:America/Chicago
BEGIN:VTIMEZONE
TZID:America/Chicago
BEGIN:STANDARD
TZNAME:CST
DTSTART:20161106T020000
TZOFFSETFROM:-0500
TZOFFSETTO:-0600
RDATE:20171105T020000
RDATE:20181104T020000
END:STANDARD
BEGIN:DAYLIGHT
TZNAME:CDT
DTSTART:20170312T020000
TZOFFSETFROM:-0600
TZOFFSETTO:-0500
RDATE:20180311T020000
RDATE:20190310T020000
END:DAYLIGHT
END:VTIMEZONE
BEGIN:VEVENT
UID:f58e7056-d06a-4ca2-b008-8a639e3e4f07
DTSTAMP:20260420T120514Z
DESCRIPTION:Help us kick off the 24th (and final) Buster Keaton Celebration
  with a special screening of BENDER (2016)\, a Kansas film is based on the
  true story of the 'Bloody Benders'\, America's first family of serial kil
 lers who ran a general store 50 miles south of Iola.  The film stars long-
 time friend of the Buster Keaton Celebration\, James Karen.\n\nThis is a F
 REE event!  Doors open at 6:15 p.m.  No ticket required - general seating.
DTSTART;TZID=America/Chicago:20170928T190000
DTEND;TZID=America/Chicago:20170928T200000
LOCATION:Bowlus Auditorium
SUMMARY:SPECIAL SCREENING:  BENDER
END:VEVENT
END:VCALENDAR
