BEGIN:VCALENDAR
VERSION:2.0
PRODID:-//www.bowluscenter.org//NONSGML kigkonsult.se iCalcreator 2.30.10//
CALSCALE:GREGORIAN
METHOD:PUBLISH
UID:c852252d-7387-4c01-892e-c3605da1e66b
X-WR-CALDESC:More information and registration will be available at a later
  date!
X-WR-RELCALID:a09e9d816b20d9a9405f49e3971e1dd5
X-WR-TIMEZONE:America/Chicago
BEGIN:VTIMEZONE
TZID:America/Chicago
BEGIN:STANDARD
TZNAME:CST
DTSTART:20211107T020000
TZOFFSETFROM:-0500
TZOFFSETTO:-0600
RDATE:20221106T020000
RDATE:20231105T020000
END:STANDARD
BEGIN:DAYLIGHT
TZNAME:CDT
DTSTART:20220313T020000
TZOFFSETFROM:-0600
TZOFFSETTO:-0500
RDATE:20230312T020000
END:DAYLIGHT
END:VTIMEZONE
BEGIN:VEVENT
UID:853030ba-4c3c-4df9-bfc9-7b67d4abb790
DTSTAMP:20260419T215358Z
DESCRIPTION:More information and registration will be available at a later 
 date!
DTSTART;TZID=America/Chicago:20220720T133000
DTEND;TZID=America/Chicago:20220720T153000
LOCATION:
SUMMARY:CSTW IMPROV
END:VEVENT
END:VCALENDAR
