BEGIN:VCALENDAR
VERSION:2.0
PRODID:-//www.bowluscenter.org//NONSGML kigkonsult.se iCalcreator 2.30.10//
CALSCALE:GREGORIAN
METHOD:PUBLISH
UID:47c2006e-8d15-4637-8070-67dce1ef7b9f
X-WR-CALDESC:Single Event Pricing \n(General Admission- 16 and under free\,
  with the exception of Saturday \nEvening’s Presentation)\n\nSeptember 22n
 d\n  •  $7 Movie: Singing in the Rain (7 PM\, preshow presentation 6:45 PM
 )\n\n\nSeptember 23rd\n  •  $7 Afternoon Session (3 PM-5 PM):\n	o  Movie: T
 ake Me Out to the Ball Game\n	o  Presenter: Keith Goering\n  •  $7 Evening 
 Movie: Starstruck Gene Kelly’s Love Letter to Ballet (7 PM)\n\n\nSeptember
  24th\n  •  $7 Morning Session (10:30 AM-12 PM):\n	o  Movie: The Cameraman
 \n	o  Presenter: Ben Model\n  •  $7 Afternoon Session (1:30 PM-5 PM):\n	o  M
 ovie: Steamboat Bill Jr.\n	o  Author: Dana Stevens and Book Signing\n	o  Fil
 m Competition Awards Presentation\n  •  $17/Adult  $10/Student \n	Evening P
 resentation: Gene Kelly the Legacy: \n          	An evening with Patricia W
 ard Kelly (7 PM)\n\nFestival Price:\n  •  $47/includes all events
X-WR-RELCALID:f73cc1cd6a6e8b123cf25bc8f917aa91
X-WR-TIMEZONE:America/Chicago
BEGIN:VTIMEZONE
TZID:America/Chicago
BEGIN:STANDARD
TZNAME:CST
DTSTART:20211107T020000
TZOFFSETFROM:-0500
TZOFFSETTO:-0600
RDATE:20221106T020000
RDATE:20231105T020000
END:STANDARD
BEGIN:DAYLIGHT
TZNAME:CDT
DTSTART:20220313T020000
TZOFFSETFROM:-0600
TZOFFSETTO:-0500
RDATE:20230312T020000
RDATE:20240310T020000
END:DAYLIGHT
END:VTIMEZONE
BEGIN:VEVENT
UID:94803fd9-36a9-4635-ac92-2207fab44b51
DTSTAMP:20260419T125551Z
DESCRIPTION:Single Event Pricing \n(General Admission- 16 and under free\, 
 with the exception of Saturday \nEvening’s Presentation)\n\nSeptember 22nd
 \n  •  $7 Movie: Singing in the Rain (7 PM\, preshow presentation 6:45 PM)
 \n\n\nSeptember 23rd\n  •  $7 Afternoon Session (3 PM-5 PM):\n	o  Movie: Ta
 ke Me Out to the Ball Game\n	o  Presenter: Keith Goering\n  •  $7 Evening M
 ovie: Starstruck Gene Kelly’s Love Letter to Ballet (7 PM)\n\n\nSeptember 
 24th\n  •  $7 Morning Session (10:30 AM-12 PM):\n	o  Movie: The Cameraman\n
 	o  Presenter: Ben Model\n  •  $7 Afternoon Session (1:30 PM-5 PM):\n	o  Mov
 ie: Steamboat Bill Jr.\n	o  Author: Dana Stevens and Book Signing\n	o  Film 
 Competition Awards Presentation\n  •  $17/Adult  $10/Student \n	Evening Pre
 sentation: Gene Kelly the Legacy: \n          	An evening with Patricia War
 d Kelly (7 PM)\n\nFestival Price:\n  •  $47/includes all events
DTSTART;TZID=America/Chicago:20220922T184500
DTEND;TZID=America/Chicago:20220924T170000
LOCATION:Bowlus Main Stage
SUMMARY:Buster Keaton Celebration: Keaton & Kelly
END:VEVENT
END:VCALENDAR
