BEGIN:VCALENDAR
VERSION:2.0
PRODID:-//www.bowluscenter.org//NONSGML kigkonsult.se iCalcreator 2.30.10//
CALSCALE:GREGORIAN
METHOD:PUBLISH
UID:5b35582d-31c3-45ca-b274-e93215d7f38d
X-WR-CALDESC:A Sleeper Family Trust Speaker Series and Keaton/Kelly Event\n
 \nLegendary dancer\, director and choreographer Gene Kelly brought astonis
 hing grace and athleticism to the movies. His engaging onscreen personalit
 y is so accessible we feel like we know him. In fact\, we know very little
  about the man who created some of the most iconic moments in film history
 .\n\nPatricia Kelly takes us behind the scenes and shares a deeply moving 
 and intimate portrait of the innovative artist\, with rare and familiar fi
 lm clips\, previously unreleased audio recordings\, personal memorabilia\,
  and insights culled from her hours of interviews and conversations with h
 er husband.\n\nThe show runs 140 minutes without interval.
X-WR-RELCALID:bb58abffb38352d2c2ea91caab030fd5
X-WR-TIMEZONE:America/Chicago
BEGIN:VTIMEZONE
TZID:America/Chicago
BEGIN:STANDARD
TZNAME:CST
DTSTART:20211107T020000
TZOFFSETFROM:-0500
TZOFFSETTO:-0600
RDATE:20221106T020000
RDATE:20231105T020000
END:STANDARD
BEGIN:DAYLIGHT
TZNAME:CDT
DTSTART:20220313T020000
TZOFFSETFROM:-0600
TZOFFSETTO:-0500
RDATE:20230312T020000
RDATE:20240310T020000
END:DAYLIGHT
END:VTIMEZONE
BEGIN:VEVENT
UID:adf7d473-98bb-4730-be1c-2b806654676a
DTSTAMP:20260421T084655Z
DESCRIPTION:A Sleeper Family Trust Speaker Series and Keaton/Kelly Event\n
 \nLegendary dancer\, director and choreographer Gene Kelly brought astonis
 hing grace and athleticism to the movies. His engaging onscreen personalit
 y is so accessible we feel like we know him. In fact\, we know very little
  about the man who created some of the most iconic moments in film history
 .\n\nPatricia Kelly takes us behind the scenes and shares a deeply moving 
 and intimate portrait of the innovative artist\, with rare and familiar fi
 lm clips\, previously unreleased audio recordings\, personal memorabilia\,
  and insights culled from her hours of interviews and conversations with h
 er husband.\n\nThe show runs 140 minutes without interval.
DTSTART;TZID=America/Chicago:20220924T190000
DTEND;TZID=America/Chicago:20220924T213000
LOCATION:Bowlus Main Stage
SUMMARY:Gene Kelly the Legacy: A Night with Patricia Ward Kelly
END:VEVENT
END:VCALENDAR
