BEGIN:VCALENDAR
VERSION:2.0
PRODID:-//www.bowluscenter.org//NONSGML kigkonsult.se iCalcreator 2.30.10//
CALSCALE:GREGORIAN
METHOD:PUBLISH
UID:74fb486b-f472-49bd-b895-d20bdb296633
X-WR-CALDESC:
X-WR-RELCALID:4f2bf1c606980cf7436627fc01af5f3e
X-WR-TIMEZONE:America/Chicago
BEGIN:VTIMEZONE
TZID:America/Chicago
BEGIN:STANDARD
TZNAME:CST
DTSTART:20211107T020000
TZOFFSETFROM:-0500
TZOFFSETTO:-0600
RDATE:20221106T020000
RDATE:20231105T020000
END:STANDARD
BEGIN:DAYLIGHT
TZNAME:CDT
DTSTART:20220313T020000
TZOFFSETFROM:-0600
TZOFFSETTO:-0500
RDATE:20230312T020000
RDATE:20240310T020000
END:DAYLIGHT
END:VTIMEZONE
BEGIN:VEVENT
UID:7ceb18a3-7bd0-4fe7-a11d-58f2b69e3ae1
DTSTAMP:20260421T082103Z
DESCRIPTION:
DTSTART;TZID=America/Chicago:20221003T190000
DTEND;TZID=America/Chicago:20221003T200000
LOCATION:Bowlus Fine Arts Center Rehearsal Hall
SUMMARY:Iola Area Symphony Orchestra Rehearsal
END:VEVENT
END:VCALENDAR
