BEGIN:VCALENDAR
VERSION:2.0
PRODID:-//www.bowluscenter.org//NONSGML kigkonsult.se iCalcreator 2.30.10//
CALSCALE:GREGORIAN
METHOD:PUBLISH
UID:cd3073ea-2870-4f88-aa3d-941d011a0f50
X-WR-CALDESC:Cheerfully desecrating the stories of Sir Arthur Conan Doyle.
X-WR-RELCALID:2f7b45fed2e8df3f4503364a898868ec
X-WR-TIMEZONE:America/Chicago
BEGIN:VTIMEZONE
TZID:America/Chicago
BEGIN:STANDARD
TZNAME:CST
DTSTART:20211107T020000
TZOFFSETFROM:-0500
TZOFFSETTO:-0600
RDATE:20221106T020000
RDATE:20231105T020000
END:STANDARD
BEGIN:DAYLIGHT
TZNAME:CDT
DTSTART:20220313T020000
TZOFFSETFROM:-0600
TZOFFSETTO:-0500
RDATE:20230312T020000
RDATE:20240310T020000
END:DAYLIGHT
END:VTIMEZONE
BEGIN:VEVENT
UID:717e16ae-86c2-4cd1-9e78-860e4a28a9e2
DTSTAMP:20260419T143314Z
DESCRIPTION:Cheerfully desecrating the stories of Sir Arthur Conan Doyle.
DTSTART;TZID=America/Chicago:20221006T193000
DTEND;TZID=America/Chicago:20221006T203000
LOCATION:Bowlus Main Stage
SUMMARY:ACC Theatre: Ms. Holmes & Ms. Watson\, Apt. 2B
END:VEVENT
END:VCALENDAR
