BEGIN:VCALENDAR
VERSION:2.0
PRODID:-//www.bowluscenter.org//NONSGML kigkonsult.se iCalcreator 2.30.10//
CALSCALE:GREGORIAN
METHOD:PUBLISH
UID:a252b70e-6f4f-4e00-9171-45f916f1ccf0
X-WR-CALDESC:Cheerfully desecrating the stories of Sir Arthur Conan Doyle.
X-WR-RELCALID:3c3ba3437fce8fcc71efb0867c3c6fd2
X-WR-TIMEZONE:America/Chicago
BEGIN:VTIMEZONE
TZID:America/Chicago
BEGIN:STANDARD
TZNAME:CST
DTSTART:20211107T020000
TZOFFSETFROM:-0500
TZOFFSETTO:-0600
RDATE:20221106T020000
RDATE:20231105T020000
END:STANDARD
BEGIN:DAYLIGHT
TZNAME:CDT
DTSTART:20220313T020000
TZOFFSETFROM:-0600
TZOFFSETTO:-0500
RDATE:20230312T020000
RDATE:20240310T020000
END:DAYLIGHT
END:VTIMEZONE
BEGIN:VEVENT
UID:687e124f-46c0-4ed0-a96d-f26dbd970259
DTSTAMP:20260421T103953Z
DESCRIPTION:Cheerfully desecrating the stories of Sir Arthur Conan Doyle.
DTSTART;TZID=America/Chicago:20221007T193000
DTEND;TZID=America/Chicago:20221007T203000
LOCATION:Bowlus Main Stage
SUMMARY:ACC Theatre: Ms. Holmes & Ms. Watson\, Apt. 2B
END:VEVENT
END:VCALENDAR
