BEGIN:VCALENDAR
VERSION:2.0
PRODID:-//www.bowluscenter.org//NONSGML kigkonsult.se iCalcreator 2.30.10//
CALSCALE:GREGORIAN
METHOD:PUBLISH
UID:03514c9b-59ad-4e7a-ac41-893284ee95ca
X-WR-CALDESC:
X-WR-RELCALID:7d348af9c760fbfd098943e9e7eddaeb
X-WR-TIMEZONE:America/Chicago
BEGIN:VTIMEZONE
TZID:America/Chicago
BEGIN:STANDARD
TZNAME:CST
DTSTART:20211107T020000
TZOFFSETFROM:-0500
TZOFFSETTO:-0600
RDATE:20221106T020000
RDATE:20231105T020000
END:STANDARD
BEGIN:DAYLIGHT
TZNAME:CDT
DTSTART:20220313T020000
TZOFFSETFROM:-0600
TZOFFSETTO:-0500
RDATE:20230312T020000
RDATE:20240310T020000
END:DAYLIGHT
END:VTIMEZONE
BEGIN:VEVENT
UID:f348f929-fe2c-430a-a33e-2ccbec0de83f
DTSTAMP:20260421T082228Z
DESCRIPTION:
DTSTART;TZID=America/Chicago:20221017T190000
DTEND;TZID=America/Chicago:20221017T200000
LOCATION:Bowlus Fine Arts Center Rehearsal Hall
SUMMARY:Iola Area Symphony Orchestra Rehearsal
END:VEVENT
END:VCALENDAR
