BEGIN:VCALENDAR
VERSION:2.0
PRODID:-//www.bowluscenter.org//NONSGML kigkonsult.se iCalcreator 2.30.10//
CALSCALE:GREGORIAN
METHOD:PUBLISH
UID:d594fa6b-e647-4132-aaa2-422eccb2a652
X-WR-CALDESC:Priscilla Howe\, 'SPOOKY' Storyteller will be at the Bowlus! A
 s a part of the Iola Reads Young Adult Selection 2022.
X-WR-RELCALID:d4067d49cdb54d4efe726010ff3da160
X-WR-TIMEZONE:America/Chicago
BEGIN:VTIMEZONE
TZID:America/Chicago
BEGIN:STANDARD
TZNAME:CST
DTSTART:20211107T020000
TZOFFSETFROM:-0500
TZOFFSETTO:-0600
RDATE:20221106T020000
RDATE:20231105T020000
END:STANDARD
BEGIN:DAYLIGHT
TZNAME:CDT
DTSTART:20220313T020000
TZOFFSETFROM:-0600
TZOFFSETTO:-0500
RDATE:20230312T020000
RDATE:20240310T020000
END:DAYLIGHT
END:VTIMEZONE
BEGIN:VEVENT
UID:bcff4977-69c0-48b6-8a27-e7aac163029b
DTSTAMP:20260423T082447Z
DESCRIPTION:Priscilla Howe\, 'SPOOKY' Storyteller will be at the Bowlus! As
  a part of the Iola Reads Young Adult Selection 2022.
DTSTART;TZID=America/Chicago:20221020T190000
DTEND;TZID=America/Chicago:20221020T194500
LOCATION:Creitz Recital Hall
SUMMARY:Iola Reads Presents: Priscilla Howe
END:VEVENT
END:VCALENDAR
