BEGIN:VCALENDAR
VERSION:2.0
PRODID:-//www.bowluscenter.org//NONSGML kigkonsult.se iCalcreator 2.30.10//
CALSCALE:GREGORIAN
METHOD:PUBLISH
UID:c9ffe916-6546-46cd-9d18-1c4914abee60
X-WR-CALDESC:A Sleeper Family Trust Supported Performance\nPrior to winning
  the Sarah Vaughan Competition Lynell could frequently be found with a fou
 r-piece rhythm section and at least a horn or two. Due to the demands of a
 n emerging career Lynell chose to streamline the band and record with a qu
 artet\, always knowing the “big band” would return. The time has come and 
 The Lush Life is set to bring the New Orleans funk\, groove\, and soul to 
 hearts and ears worldwide. Lynell has taken tracks from A Little Love and 
 reimagined them to highlight the new ensemble\, utilizing the communicativ
 e nature of New Orleans inspired Rhythm and Blues\, shout choruses and vam
 ps that keep the audience entranced within the soul of the music. Working 
 with Daniel Meinecke her long time accompanist and arranger\, the show is 
 infused with standards\, originals\, and classic soul\, that as always sha
 res the message of love and undying hope in the goodness within. The retur
 n of the Lush Life a tradition of New Orleans music that is fun\, inspirin
 g\, and top tier.
X-WR-RELCALID:83dfed24b7988000b2751975db55fa5e
X-WR-TIMEZONE:America/Chicago
BEGIN:VTIMEZONE
TZID:America/Chicago
BEGIN:STANDARD
TZNAME:CST
DTSTART:20211107T020000
TZOFFSETFROM:-0500
TZOFFSETTO:-0600
RDATE:20221106T020000
RDATE:20231105T020000
END:STANDARD
BEGIN:DAYLIGHT
TZNAME:CDT
DTSTART:20220313T020000
TZOFFSETFROM:-0600
TZOFFSETTO:-0500
RDATE:20230312T020000
RDATE:20240310T020000
END:DAYLIGHT
END:VTIMEZONE
BEGIN:VEVENT
UID:bb987dd2-cf03-486c-8761-7795125c220b
DTSTAMP:20260421T084137Z
DESCRIPTION:A Sleeper Family Trust Supported Performance\nPrior to winning 
 the Sarah Vaughan Competition Lynell could frequently be found with a four
 -piece rhythm section and at least a horn or two. Due to the demands of an
  emerging career Lynell chose to streamline the band and record with a qua
 rtet\, always knowing the “big band” would return. The time has come and T
 he Lush Life is set to bring the New Orleans funk\, groove\, and soul to h
 earts and ears worldwide. Lynell has taken tracks from A Little Love and r
 eimagined them to highlight the new ensemble\, utilizing the communicative
  nature of New Orleans inspired Rhythm and Blues\, shout choruses and vamp
 s that keep the audience entranced within the soul of the music. Working w
 ith Daniel Meinecke her long time accompanist and arranger\, the show is i
 nfused with standards\, originals\, and classic soul\, that as always shar
 es the message of love and undying hope in the goodness within. The return
  of the Lush Life a tradition of New Orleans music that is fun\, inspiring
 \, and top tier.
DTSTART;TZID=America/Chicago:20221021T190000
DTEND;TZID=America/Chicago:20221021T210000
LOCATION:Bowlus Main Stage
SUMMARY:Quiana Lynell and the Lush Life
END:VEVENT
END:VCALENDAR
