BEGIN:VCALENDAR
VERSION:2.0
PRODID:-//www.bowluscenter.org//NONSGML kigkonsult.se iCalcreator 2.30.10//
CALSCALE:GREGORIAN
METHOD:PUBLISH
UID:dd0a786b-9b2c-47c0-bee3-bec6a1b816d3
X-WR-CALDESC:4:30 pm rehearsal starts onstage. \n5:45 pm break\, food (We a
 re doing a variety of sub sandwiches and salad with drinks)\, get ready fo
 r the concert.\n7:00 pm Concert
X-WR-RELCALID:2e15051f13ffdcc8cff0c0151222acca
X-WR-TIMEZONE:America/Chicago
BEGIN:VTIMEZONE
TZID:America/Chicago
BEGIN:STANDARD
TZNAME:CST
DTSTART:20211107T020000
TZOFFSETFROM:-0500
TZOFFSETTO:-0600
RDATE:20221106T020000
RDATE:20231105T020000
END:STANDARD
BEGIN:DAYLIGHT
TZNAME:CDT
DTSTART:20220313T020000
TZOFFSETFROM:-0600
TZOFFSETTO:-0500
RDATE:20230312T020000
RDATE:20240310T020000
END:DAYLIGHT
END:VTIMEZONE
BEGIN:VEVENT
UID:1b8e3940-e320-4ab4-8ae2-781d6b320174
DTSTAMP:20260423T082338Z
DESCRIPTION:4:30 pm rehearsal starts onstage. \n5:45 pm break\, food (We ar
 e doing a variety of sub sandwiches and salad with drinks)\, get ready for
  the concert.\n7:00 pm Concert
DTSTART;TZID=America/Chicago:20221022T163000
DTEND;TZID=America/Chicago:20221022T173000
LOCATION:
SUMMARY:Symphony Rehearsal Prior to Performance
END:VEVENT
END:VCALENDAR
