BEGIN:VCALENDAR
VERSION:2.0
PRODID:-//www.bowluscenter.org//NONSGML kigkonsult.se iCalcreator 2.30.10//
CALSCALE:GREGORIAN
METHOD:PUBLISH
UID:957c3b5f-a272-49b0-96bb-4693e857549e
X-WR-CALDESC:
X-WR-RELCALID:3b8ac87f610724225e7e262eb7360c9c
X-WR-TIMEZONE:America/Chicago
BEGIN:VTIMEZONE
TZID:America/Chicago
BEGIN:STANDARD
TZNAME:CST
DTSTART:20221106T020000
TZOFFSETFROM:-0500
TZOFFSETTO:-0600
RDATE:20231105T020000
END:STANDARD
BEGIN:DAYLIGHT
TZNAME:CDT
DTSTART:20220313T020000
TZOFFSETFROM:-0600
TZOFFSETTO:-0500
RDATE:20230312T020000
RDATE:20240310T020000
END:DAYLIGHT
END:VTIMEZONE
BEGIN:VEVENT
UID:ba9e51d8-b073-4b82-97be-1d5220caac90
DTSTAMP:20260421T114317Z
DESCRIPTION:
DTSTART;TZID=America/Chicago:20221110T190000
DTEND;TZID=America/Chicago:20221110T200000
LOCATION:Bowlus Main Stage
SUMMARY:IHS presents: Elf Jr.
END:VEVENT
END:VCALENDAR
