BEGIN:VCALENDAR
VERSION:2.0
PRODID:-//www.bowluscenter.org//NONSGML kigkonsult.se iCalcreator 2.30.10//
CALSCALE:GREGORIAN
METHOD:PUBLISH
UID:cd9718ad-44b2-4a92-8c28-0b87d5e428d4
X-WR-CALDESC:Presents a night of Big Band flavored Hymns and A Patriotic Tr
 ibute.
X-WR-RELCALID:9e2ef9dd5231292d397db8a330632890
X-WR-TIMEZONE:America/Chicago
BEGIN:VTIMEZONE
TZID:America/Chicago
BEGIN:STANDARD
TZNAME:CST
DTSTART:20221106T020000
TZOFFSETFROM:-0500
TZOFFSETTO:-0600
RDATE:20231105T020000
END:STANDARD
BEGIN:DAYLIGHT
TZNAME:CDT
DTSTART:20220313T020000
TZOFFSETFROM:-0600
TZOFFSETTO:-0500
RDATE:20230312T020000
RDATE:20240310T020000
END:DAYLIGHT
END:VTIMEZONE
BEGIN:VEVENT
UID:515276b3-d662-426c-8d31-8c9cf3ad68f3
DTSTAMP:20260421T124138Z
DESCRIPTION:Presents a night of Big Band flavored Hymns and A Patriotic Tri
 bute.
DTSTART;TZID=America/Chicago:20221113T180000
DTEND;TZID=America/Chicago:20221113T193000
LOCATION:Bowlus Main Stage
SUMMARY:The Fabulous Equinox Orchestra
END:VEVENT
END:VCALENDAR
