BEGIN:VCALENDAR
VERSION:2.0
PRODID:-//www.bowluscenter.org//NONSGML kigkonsult.se iCalcreator 2.30.10//
CALSCALE:GREGORIAN
METHOD:PUBLISH
UID:f7890b64-30a4-4b67-9198-01f8109df4ab
X-WR-CALDESC:
X-WR-RELCALID:6a5cc947ebf80db2ba6da874cdd170dd
X-WR-TIMEZONE:America/Chicago
BEGIN:VTIMEZONE
TZID:America/Chicago
BEGIN:STANDARD
TZNAME:CST
DTSTART:20221106T020000
TZOFFSETFROM:-0500
TZOFFSETTO:-0600
RDATE:20231105T020000
END:STANDARD
BEGIN:DAYLIGHT
TZNAME:CDT
DTSTART:20220313T020000
TZOFFSETFROM:-0600
TZOFFSETTO:-0500
RDATE:20230312T020000
RDATE:20240310T020000
END:DAYLIGHT
END:VTIMEZONE
BEGIN:VEVENT
UID:5a915d04-97b3-4447-a805-d4da22621e6e
DTSTAMP:20260421T122609Z
DESCRIPTION:
DTSTART;TZID=America/Chicago:20221115T190000
DTEND;TZID=America/Chicago:20221115T203000
LOCATION:
SUMMARY:4th & 5th Grade Program
END:VEVENT
END:VCALENDAR
