BEGIN:VCALENDAR
VERSION:2.0
PRODID:-//www.bowluscenter.org//NONSGML kigkonsult.se iCalcreator 2.30.10//
CALSCALE:GREGORIAN
METHOD:PUBLISH
UID:756a3988-0ca3-48d0-aa7e-1fe86a7b1751
X-WR-CALDESC:A Sleeper Family Trust Supported Performance\nThe Rico Monaco 
 Band with Special Guest Tito Puente\, Jr. – International sensation\, The 
 Rico Monaco Band is thrilled to welcome the great Tito Puente Jr\, to thei
 r show. Combined\, they bring a concert of hits from stars such as Tito Pu
 ente\, Santana\, Juanes and all of the Latin Rock Legends to your stage. S
 ee why Sammy Hagar personally selected this show as the winner of the Hard
  Rock/Cabo Wabo National Battle of the Bands\, why he regularly jams with 
 them and why Rico regularly opens for him. This amazing show is a hit ever
 ywhere it plays from Paris to New York to San Francisco\, Miami and beyond
X-WR-RELCALID:4ec764d851cd7cb7007e323b103dad6d
X-WR-TIMEZONE:America/Chicago
BEGIN:VTIMEZONE
TZID:America/Chicago
BEGIN:STANDARD
TZNAME:CST
DTSTART:20221106T020000
TZOFFSETFROM:-0500
TZOFFSETTO:-0600
RDATE:20231105T020000
END:STANDARD
BEGIN:DAYLIGHT
TZNAME:CDT
DTSTART:20220313T020000
TZOFFSETFROM:-0600
TZOFFSETTO:-0500
RDATE:20230312T020000
RDATE:20240310T020000
END:DAYLIGHT
END:VTIMEZONE
BEGIN:VEVENT
UID:768afbdc-c11e-41e6-8551-32fd1e417b06
DTSTAMP:20260421T115508Z
DESCRIPTION:A Sleeper Family Trust Supported Performance\nThe Rico Monaco B
 and with Special Guest Tito Puente\, Jr. – International sensation\, The R
 ico Monaco Band is thrilled to welcome the great Tito Puente Jr\, to their
  show. Combined\, they bring a concert of hits from stars such as Tito Pue
 nte\, Santana\, Juanes and all of the Latin Rock Legends to your stage. Se
 e why Sammy Hagar personally selected this show as the winner of the Hard 
 Rock/Cabo Wabo National Battle of the Bands\, why he regularly jams with t
 hem and why Rico regularly opens for him. This amazing show is a hit every
 where it plays from Paris to New York to San Francisco\, Miami and beyond
DTSTART;TZID=America/Chicago:20221119T190000
DTEND;TZID=America/Chicago:20221119T210000
LOCATION:Bowlus Main Stage
SUMMARY:The Rico Monaco Band with Special Guest Tito Puente Jr.
END:VEVENT
END:VCALENDAR
