BEGIN:VCALENDAR
VERSION:2.0
PRODID:-//www.bowluscenter.org//NONSGML kigkonsult.se iCalcreator 2.30.10//
CALSCALE:GREGORIAN
METHOD:PUBLISH
UID:154cab68-3481-40eb-a692-3716d3f74932
X-WR-CALDESC:
X-WR-RELCALID:f4aaa47ce533b9d50a44f43217bb423d
X-WR-TIMEZONE:America/Chicago
BEGIN:VTIMEZONE
TZID:America/Chicago
BEGIN:STANDARD
TZNAME:CST
DTSTART:20221106T020000
TZOFFSETFROM:-0500
TZOFFSETTO:-0600
RDATE:20231105T020000
END:STANDARD
BEGIN:DAYLIGHT
TZNAME:CDT
DTSTART:20220313T020000
TZOFFSETFROM:-0600
TZOFFSETTO:-0500
RDATE:20230312T020000
RDATE:20240310T020000
END:DAYLIGHT
END:VTIMEZONE
BEGIN:VEVENT
UID:f8866234-f764-4b5e-8d70-5d0f32af1f13
DTSTAMP:20260421T183017Z
DESCRIPTION:
DTSTART;TZID=America/Chicago:20221206T190000
DTEND;TZID=America/Chicago:20221206T203000
LOCATION:
SUMMARY:K-1 Program
END:VEVENT
END:VCALENDAR
