BEGIN:VCALENDAR
VERSION:2.0
PRODID:-//www.bowluscenter.org//NONSGML kigkonsult.se iCalcreator 2.30.10//
CALSCALE:GREGORIAN
METHOD:PUBLISH
UID:386a7e64-e535-4def-b77b-fca8ab81779e
X-WR-CALDESC:
X-WR-RELCALID:f37865290d0e9a2e6dbe78d2aff66de4
X-WR-TIMEZONE:America/Chicago
BEGIN:VTIMEZONE
TZID:America/Chicago
BEGIN:STANDARD
TZNAME:CST
DTSTART:20221106T020000
TZOFFSETFROM:-0500
TZOFFSETTO:-0600
RDATE:20231105T020000
END:STANDARD
BEGIN:DAYLIGHT
TZNAME:CDT
DTSTART:20220313T020000
TZOFFSETFROM:-0600
TZOFFSETTO:-0500
RDATE:20230312T020000
RDATE:20240310T020000
END:DAYLIGHT
END:VTIMEZONE
BEGIN:VEVENT
UID:9c625994-89ac-4082-94c4-2c3f9cf3d518
DTSTAMP:20260421T181204Z
DESCRIPTION:
DTSTART;TZID=America/Chicago:20221207T190000
DTEND;TZID=America/Chicago:20221207T200000
LOCATION:Creitz Recital Hall
SUMMARY:IMS & IHS Choir Concert
END:VEVENT
END:VCALENDAR
