BEGIN:VCALENDAR
VERSION:2.0
PRODID:-//www.bowluscenter.org//NONSGML kigkonsult.se iCalcreator 2.30.10//
CALSCALE:GREGORIAN
METHOD:PUBLISH
UID:ee0b8177-be3d-4fb2-9a6c-1569f78151fc
X-WR-CALDESC:
X-WR-RELCALID:6822dc0b047052af7dcca36d2ecf5aa8
X-WR-TIMEZONE:America/Chicago
BEGIN:VTIMEZONE
TZID:America/Chicago
BEGIN:STANDARD
TZNAME:CST
DTSTART:20221106T020000
TZOFFSETFROM:-0500
TZOFFSETTO:-0600
RDATE:20231105T020000
END:STANDARD
BEGIN:DAYLIGHT
TZNAME:CDT
DTSTART:20220313T020000
TZOFFSETFROM:-0600
TZOFFSETTO:-0500
RDATE:20230312T020000
RDATE:20240310T020000
END:DAYLIGHT
END:VTIMEZONE
BEGIN:VEVENT
UID:6eb8251f-7965-424e-ac62-9a2ff4947eee
DTSTAMP:20260421T181204Z
DESCRIPTION:
DTSTART;TZID=America/Chicago:20221214T190000
DTEND;TZID=America/Chicago:20221214T200000
LOCATION:Bowlus Main Stage
SUMMARY:IMS & IHS Strings Concert
END:VEVENT
END:VCALENDAR
