BEGIN:VCALENDAR
VERSION:2.0
PRODID:-//www.bowluscenter.org//NONSGML kigkonsult.se iCalcreator 2.30.10//
CALSCALE:GREGORIAN
METHOD:PUBLISH
UID:8ae4204b-a7de-4071-9a32-f2db86a2d7ba
X-WR-CALDESC:A Sleeper Family Trust Supported Performance\nThree leading me
 n. Three unbelievable voices. The Broadway Tenors bring the greatest Holid
 ay songs to life in this muti-media concert\, from the traditional classic
  Chestnuts Roasting on an Open Fire to the newer classic All I Want For Ch
 ristmas is You. This multi-media concert is overflowing with the most popu
 lar songs of the Holiday Season.\nThe renowned singers enchant with specia
 l medley material written just for them to add to the Holiday fun and flai
 r. Other holiday songs include Silent Night\, Joy to the World\, Oh Chanuk
 ah\, White Christmas\, O Holy Night and Santa Claus is Coming to Town\, to
  name a few.\n\nExpect a few surprises that will bring laughter and warmth
  to the festivities. Wrap it all up in a bow and you have an enchanting ev
 ening of entertainment.\n\n'Individually\, each is a spectacular artist\; 
 together\, they present an infinite and Kaleidoscopic range of musical pos
 sibilities.” David Lindauer - Capital Gazette\n
X-WR-RELCALID:d4df78a63f41d0365d07d200f2fad93d
X-WR-TIMEZONE:America/Chicago
BEGIN:VTIMEZONE
TZID:America/Chicago
BEGIN:STANDARD
TZNAME:CST
DTSTART:20221106T020000
TZOFFSETFROM:-0500
TZOFFSETTO:-0600
RDATE:20231105T020000
END:STANDARD
BEGIN:DAYLIGHT
TZNAME:CDT
DTSTART:20220313T020000
TZOFFSETFROM:-0600
TZOFFSETTO:-0500
RDATE:20230312T020000
RDATE:20240310T020000
END:DAYLIGHT
END:VTIMEZONE
BEGIN:VEVENT
UID:68eedbfa-38c2-4a8f-ad28-8ff592eaab4b
DTSTAMP:20260421T180917Z
DESCRIPTION:A Sleeper Family Trust Supported Performance\nThree leading men
 . Three unbelievable voices. The Broadway Tenors bring the greatest Holida
 y songs to life in this muti-media concert\, from the traditional classic 
 Chestnuts Roasting on an Open Fire to the newer classic All I Want For Chr
 istmas is You. This multi-media concert is overflowing with the most popul
 ar songs of the Holiday Season.\nThe renowned singers enchant with special
  medley material written just for them to add to the Holiday fun and flair
 . Other holiday songs include Silent Night\, Joy to the World\, Oh Chanuka
 h\, White Christmas\, O Holy Night and Santa Claus is Coming to Town\, to 
 name a few.\n\nExpect a few surprises that will bring laughter and warmth 
 to the festivities. Wrap it all up in a bow and you have an enchanting eve
 ning of entertainment.\n\n'Individually\, each is a spectacular artist\; t
 ogether\, they present an infinite and Kaleidoscopic range of musical poss
 ibilities.” David Lindauer - Capital Gazette\n
DTSTART;TZID=America/Chicago:20221217T190000
DTEND;TZID=America/Chicago:20221217T210000
LOCATION:Bowlus Main Stage
SUMMARY:'Tis the Season- The Broadway Tenors
END:VEVENT
END:VCALENDAR
