BEGIN:VCALENDAR
VERSION:2.0
PRODID:-//www.bowluscenter.org//NONSGML kigkonsult.se iCalcreator 2.30.10//
CALSCALE:GREGORIAN
METHOD:PUBLISH
UID:17458109-8cd7-42c8-bd88-811af597d757
X-WR-CALDESC:
X-WR-RELCALID:c78cb96998338d08ed00d93c9f758807
X-WR-TIMEZONE:America/Chicago
BEGIN:VTIMEZONE
TZID:America/Chicago
BEGIN:STANDARD
TZNAME:CST
DTSTART:20221106T020000
TZOFFSETFROM:-0500
TZOFFSETTO:-0600
RDATE:20231105T020000
END:STANDARD
BEGIN:DAYLIGHT
TZNAME:CDT
DTSTART:20220313T020000
TZOFFSETFROM:-0600
TZOFFSETTO:-0500
RDATE:20230312T020000
RDATE:20240310T020000
END:DAYLIGHT
END:VTIMEZONE
BEGIN:VEVENT
UID:f6f05707-f271-4afc-a587-9a65b68ed588
DTSTAMP:20260421T193738Z
DESCRIPTION:
DTSTART;TZID=America/Chicago:20230103T000000
DTEND;TZID=America/Chicago:20230103T235900
LOCATION:
SUMMARY:Resume Regular Business Hours
END:VEVENT
END:VCALENDAR
