BEGIN:VCALENDAR
VERSION:2.0
PRODID:-//www.bowluscenter.org//NONSGML kigkonsult.se iCalcreator 2.30.10//
CALSCALE:GREGORIAN
METHOD:PUBLISH
UID:ee00f1c8-8f38-449b-acb9-126d5161ccec
X-WR-CALDESC:First rehearsal back for the Spring Performance!!
X-WR-RELCALID:cfbd6b19130332d349464b60ddf1fc67
X-WR-TIMEZONE:America/Chicago
BEGIN:VTIMEZONE
TZID:America/Chicago
BEGIN:STANDARD
TZNAME:CST
DTSTART:20221106T020000
TZOFFSETFROM:-0500
TZOFFSETTO:-0600
RDATE:20231105T020000
END:STANDARD
BEGIN:DAYLIGHT
TZNAME:CDT
DTSTART:20220313T020000
TZOFFSETFROM:-0600
TZOFFSETTO:-0500
RDATE:20230312T020000
RDATE:20240310T020000
END:DAYLIGHT
END:VTIMEZONE
BEGIN:VEVENT
UID:63cceb41-ccb2-429a-87c4-046ed509ca7c
DTSTAMP:20260421T193750Z
DESCRIPTION:First rehearsal back for the Spring Performance!!
DTSTART;TZID=America/Chicago:20230125T190000
DTEND;TZID=America/Chicago:20230125T210000
LOCATION:Bowlus Fine Arts Center Rehearsal Hall
SUMMARY:Iola Area Symphony Orchestra Rehearsal
END:VEVENT
END:VCALENDAR
