BEGIN:VCALENDAR
VERSION:2.0
PRODID:-//www.bowluscenter.org//NONSGML kigkonsult.se iCalcreator 2.30.10//
CALSCALE:GREGORIAN
METHOD:PUBLISH
UID:3e4fe9ef-6f63-4a7b-9b12-f7c306c98903
X-WR-CALDESC:Orchestra Rehearsal
X-WR-RELCALID:97fa9a8f3c88ea155204b1157fc59693
X-WR-TIMEZONE:America/Chicago
BEGIN:VTIMEZONE
TZID:America/Chicago
BEGIN:STANDARD
TZNAME:CST
DTSTART:20221106T020000
TZOFFSETFROM:-0500
TZOFFSETTO:-0600
RDATE:20231105T020000
END:STANDARD
BEGIN:DAYLIGHT
TZNAME:CDT
DTSTART:20220313T020000
TZOFFSETFROM:-0600
TZOFFSETTO:-0500
RDATE:20230312T020000
RDATE:20240310T020000
END:DAYLIGHT
END:VTIMEZONE
BEGIN:VEVENT
UID:047ff55a-ddc8-457d-afbd-e70ef3f8d66c
DTSTAMP:20260425T125655Z
DESCRIPTION:Orchestra Rehearsal
DTSTART;TZID=America/Chicago:20230206T190000
DTEND;TZID=America/Chicago:20230206T210000
LOCATION:Bowlus Fine Arts Center Rehearsal Hall
SUMMARY:Iola Area Symphony Orchestra Rehearsal
END:VEVENT
END:VCALENDAR
