BEGIN:VCALENDAR
VERSION:2.0
PRODID:-//www.bowluscenter.org//NONSGML kigkonsult.se iCalcreator 2.30.10//
CALSCALE:GREGORIAN
METHOD:PUBLISH
UID:631f4af6-a27b-4dc7-a0b6-a9728cdacce8
X-WR-CALDESC:A Sleeper Family Trust Speaker Series Event\n\nKeillor & Compa
 ny is an evening of stand-up\, storytelling\, audience song\, and poetry s
 tarring Garrison Keillor and featuring pianist\, Dan Chouinard and vocalis
 t\, Prudence Johnson.\n\nThere are sung sonnets\, limericks and musical jo
 kes\, and the thread that runs through it is the beauty of growing old. De
 spite the inconvenience\, old age brings the contentment of LESS IS MORE. 
 Your mistakes and big ambitions are behind you\, nothing left to prove\, a
 nd small things give you great pleasure because that’s what’s left. (“I wa
 s unhappy in college because it was a requirement for an intellectual\, bu
 t then I went into show business and discovered that people won’t pay to b
 e made unhappy\, their kids will do it for free.) \n\nThere is the News fr
 om Lake Wobegon\, a town booming with new entrepreneurs\, makers of artisa
 nal firewood and gourmet meatloaf\, breeders of composting worms\, and dog
 s trained to do childcare. But some things endure\, such as the formation 
 of the Living Flag\non Main Street\, citizens in tight formation wearing r
 ed\, white or blue caps\, and Mr. Keillor among them\, standing close to o
 ld neighbors\, Myrtle Krebsbach (“Truckstop”) and Julie Christensen (“Brun
 o\, The Fishing Dog”) and Clint Bunsen. \n\nAnd an a cappella sing-along w
 ith the audience singing from memory an odd medley of patriotic songs\, po
 p standards\, hymns\, and ending with the national anthem.
X-WR-RELCALID:ab9ab5389d302a823071f20188ab0087
X-WR-TIMEZONE:America/Chicago
BEGIN:VTIMEZONE
TZID:America/Chicago
BEGIN:STANDARD
TZNAME:CST
DTSTART:20221106T020000
TZOFFSETFROM:-0500
TZOFFSETTO:-0600
RDATE:20231105T020000
END:STANDARD
BEGIN:DAYLIGHT
TZNAME:CDT
DTSTART:20220313T020000
TZOFFSETFROM:-0600
TZOFFSETTO:-0500
RDATE:20230312T020000
RDATE:20240310T020000
END:DAYLIGHT
END:VTIMEZONE
BEGIN:VEVENT
UID:55f0fa77-e73e-4104-8722-45d71434108b
DTSTAMP:20260425T130127Z
DESCRIPTION:A Sleeper Family Trust Speaker Series Event\n\nKeillor & Compan
 y is an evening of stand-up\, storytelling\, audience song\, and poetry st
 arring Garrison Keillor and featuring pianist\, Dan Chouinard and vocalist
 \, Prudence Johnson.\n\nThere are sung sonnets\, limericks and musical jok
 es\, and the thread that runs through it is the beauty of growing old. Des
 pite the inconvenience\, old age brings the contentment of LESS IS MORE. Y
 our mistakes and big ambitions are behind you\, nothing left to prove\, an
 d small things give you great pleasure because that’s what’s left. (“I was
  unhappy in college because it was a requirement for an intellectual\, but
  then I went into show business and discovered that people won’t pay to be
  made unhappy\, their kids will do it for free.) \n\nThere is the News fro
 m Lake Wobegon\, a town booming with new entrepreneurs\, makers of artisan
 al firewood and gourmet meatloaf\, breeders of composting worms\, and dogs
  trained to do childcare. But some things endure\, such as the formation o
 f the Living Flag\non Main Street\, citizens in tight formation wearing re
 d\, white or blue caps\, and Mr. Keillor among them\, standing close to ol
 d neighbors\, Myrtle Krebsbach (“Truckstop”) and Julie Christensen (“Bruno
 \, The Fishing Dog”) and Clint Bunsen. \n\nAnd an a cappella sing-along wi
 th the audience singing from memory an odd medley of patriotic songs\, pop
  standards\, hymns\, and ending with the national anthem.
DTSTART;TZID=America/Chicago:20230211T190000
DTEND;TZID=America/Chicago:20230211T210000
LOCATION:Bowlus Main Stage
SUMMARY:Keillor & Co - Starring Garrison Keillor Featuring Pianist Dan Chou
 inard and Vocalist Prudence Johnson
END:VEVENT
END:VCALENDAR
