BEGIN:VCALENDAR
VERSION:2.0
PRODID:-//www.bowluscenter.org//NONSGML kigkonsult.se iCalcreator 2.30.10//
CALSCALE:GREGORIAN
METHOD:PUBLISH
UID:4fc7288b-47b1-484d-a80b-58a1fccebdf7
X-WR-CALDESC:Bowlus Recital Series\nAcknowledged as one of the world’s fine
 st piano trios in the world\, the Trio con Brio Copenhagen are about to ce
 lebrate their twentieth anniversary. To mark the occasion\, Orchid Classic
 s will be releasing their multi-volume traversal of the complete Beethoven
  Piano Trios. The Trio was born out of an idea of the coming together of ‘
 musical pairs’ – of the two Korean born sisters\, Soo-Kyung Hong (cello) a
 nd Soo-Jin Hong (violin)\, with Soo-Kyung and her husband\, Danish pianist
  Jens Elvekjaer. They quickly gained a reputation for their fresh and cont
 emporary approach to the core repertoire and won almost all of the major c
 ompetitions for piano trio. Today they are regularly heard at the world’s 
 leading venues and concert series\, among them\, Carnegie Hall\, Lincoln C
 enter\, Wigmore Hall\, Berlin Pierre Boulez-Saal\, the Concertgebouw and m
 any more.\n\n“Glowing reports hold true. The Trio con Brio Copenhagen clea
 rly occupies a lofty perch\nin today’s musical scene.”\n– Washington Post
X-WR-RELCALID:d262192d6afe7e72483ca0050ff4dd06
X-WR-TIMEZONE:America/Chicago
BEGIN:VTIMEZONE
TZID:America/Chicago
BEGIN:STANDARD
TZNAME:CST
DTSTART:20221106T020000
TZOFFSETFROM:-0500
TZOFFSETTO:-0600
RDATE:20231105T020000
END:STANDARD
BEGIN:DAYLIGHT
TZNAME:CDT
DTSTART:20220313T020000
TZOFFSETFROM:-0600
TZOFFSETTO:-0500
RDATE:20230312T020000
RDATE:20240310T020000
END:DAYLIGHT
END:VTIMEZONE
BEGIN:VEVENT
UID:feae51d0-ef5b-4222-adc1-c52270a50088
DTSTAMP:20260425T123137Z
DESCRIPTION:Bowlus Recital Series\nAcknowledged as one of the world’s fines
 t piano trios in the world\, the Trio con Brio Copenhagen are about to cel
 ebrate their twentieth anniversary. To mark the occasion\, Orchid Classics
  will be releasing their multi-volume traversal of the complete Beethoven 
 Piano Trios. The Trio was born out of an idea of the coming together of ‘m
 usical pairs’ – of the two Korean born sisters\, Soo-Kyung Hong (cello) an
 d Soo-Jin Hong (violin)\, with Soo-Kyung and her husband\, Danish pianist 
 Jens Elvekjaer. They quickly gained a reputation for their fresh and conte
 mporary approach to the core repertoire and won almost all of the major co
 mpetitions for piano trio. Today they are regularly heard at the world’s l
 eading venues and concert series\, among them\, Carnegie Hall\, Lincoln Ce
 nter\, Wigmore Hall\, Berlin Pierre Boulez-Saal\, the Concertgebouw and ma
 ny more.\n\n“Glowing reports hold true. The Trio con Brio Copenhagen clear
 ly occupies a lofty perch\nin today’s musical scene.”\n– Washington Post
DTSTART;TZID=America/Chicago:20230214T190000
DTEND;TZID=America/Chicago:20230214T203000
LOCATION:Creitz Recital Hall
SUMMARY:Trio Con Brio Copenhagen
END:VEVENT
END:VCALENDAR
