BEGIN:VCALENDAR
VERSION:2.0
PRODID:-//www.bowluscenter.org//NONSGML kigkonsult.se iCalcreator 2.30.10//
CALSCALE:GREGORIAN
METHOD:PUBLISH
UID:b8f2cca1-5023-42e0-b428-aea17acea0dd
X-WR-CALDESC:A Sleeper Family Trust Supported Performance\nThe Queen’s Cart
 oonists perform music from cartoons! Pulling from over 100 years of animat
 ion\, TQC’s performances are perfectly synchronized to the films projected
  on stage. The band matches the energy of the cartoons\, leading the audie
 nce through a world of virtuosic musicianship\, multi-instrumental mayhem\
 , and comedy. Projections of animated films dazzle the audience\, while th
 e band re-creates original soundtracks note-for-note\, or writes their own
  fresh compositions to modern pieces\, all the while breathing new life in
 to two uniquely American forms of art: jazz and animation. Tying everythin
 g together is the TQC brand of comedy - anecdotes about the cartoons and t
 heir composers\, stream-of-consciousness humor\, and elements of a musical
  circus.\n\nWatch your favorite classic cartoon characters interact with t
 he musicians on stage\, and expect the unexpected from the Golden Age of A
 nimation\, cult cartoon classics\, and modern animated films. Inspired by 
 the cross-roads of jazz\, classical music\, and cartoons\, TQC features Ja
 zz Age composers like Carl Stalling\, Raymond Scott\, and John Kirby\, alo
 ngside classical giants Mozart\, Rossini\, and Strauss (to name just a few
 ).\n\n“Who needs another Broadway show when you can hire a jazz combo play
 ing music from Bugs Bunny cartoons?”\n- The Wall Street Journal\n\n“If you
  watch - and only watch - cartoons\, you’re missing something!”\n- The Chi
 cago Tribune
X-WR-RELCALID:577abf0ae6cf6fde48025d948a01f22a
X-WR-TIMEZONE:America/Chicago
BEGIN:VTIMEZONE
TZID:America/Chicago
BEGIN:STANDARD
TZNAME:CST
DTSTART:20221106T020000
TZOFFSETFROM:-0500
TZOFFSETTO:-0600
RDATE:20231105T020000
END:STANDARD
BEGIN:DAYLIGHT
TZNAME:CDT
DTSTART:20220313T020000
TZOFFSETFROM:-0600
TZOFFSETTO:-0500
RDATE:20230312T020000
RDATE:20240310T020000
END:DAYLIGHT
END:VTIMEZONE
BEGIN:VEVENT
UID:90d4a790-3c38-4335-855f-c7276d8b8ba5
DTSTAMP:20260425T124116Z
DESCRIPTION:A Sleeper Family Trust Supported Performance\nThe Queen’s Carto
 onists perform music from cartoons! Pulling from over 100 years of animati
 on\, TQC’s performances are perfectly synchronized to the films projected 
 on stage. The band matches the energy of the cartoons\, leading the audien
 ce through a world of virtuosic musicianship\, multi-instrumental mayhem\,
  and comedy. Projections of animated films dazzle the audience\, while the
  band re-creates original soundtracks note-for-note\, or writes their own 
 fresh compositions to modern pieces\, all the while breathing new life int
 o two uniquely American forms of art: jazz and animation. Tying everything
  together is the TQC brand of comedy - anecdotes about the cartoons and th
 eir composers\, stream-of-consciousness humor\, and elements of a musical 
 circus.\n\nWatch your favorite classic cartoon characters interact with th
 e musicians on stage\, and expect the unexpected from the Golden Age of An
 imation\, cult cartoon classics\, and modern animated films. Inspired by t
 he cross-roads of jazz\, classical music\, and cartoons\, TQC features Jaz
 z Age composers like Carl Stalling\, Raymond Scott\, and John Kirby\, alon
 gside classical giants Mozart\, Rossini\, and Strauss (to name just a few)
 .\n\n“Who needs another Broadway show when you can hire a jazz combo playi
 ng music from Bugs Bunny cartoons?”\n- The Wall Street Journal\n\n“If you 
 watch - and only watch - cartoons\, you’re missing something!”\n- The Chic
 ago Tribune
DTSTART;TZID=America/Chicago:20230219T150000
DTEND;TZID=America/Chicago:20230219T170000
LOCATION:Bowlus Main Stage
SUMMARY:The Queen's Cartoonists
END:VEVENT
END:VCALENDAR
