BEGIN:VCALENDAR
VERSION:2.0
PRODID:-//www.bowluscenter.org//NONSGML kigkonsult.se iCalcreator 2.30.10//
CALSCALE:GREGORIAN
METHOD:PUBLISH
UID:b179432b-7fba-4208-8a5a-2a2b44435e53
X-WR-CALDESC:In the Spirit of Lennon is an intimate tribute to John Lennon.
  Drew Harrison & Tommy Cosentino capture the intensity and delicate honest
 y that Lennon brought to the Beatles music\, and later to his own post-Bea
 tles creations.
X-WR-RELCALID:b717e93fce4b738285d33dd8e12e2d42
X-WR-TIMEZONE:America/Chicago
BEGIN:VTIMEZONE
TZID:America/Chicago
BEGIN:STANDARD
TZNAME:CST
DTSTART:20231105T020000
TZOFFSETFROM:-0500
TZOFFSETTO:-0600
RDATE:20241103T020000
RDATE:20251102T020000
END:STANDARD
BEGIN:DAYLIGHT
TZNAME:CDT
DTSTART:20240310T020000
TZOFFSETFROM:-0600
TZOFFSETTO:-0500
RDATE:20250309T020000
RDATE:20260308T020000
END:DAYLIGHT
END:VTIMEZONE
BEGIN:VEVENT
UID:189f5d5f-9cc9-41cb-89ce-2c634fa0ab3d
DTSTAMP:20260421T093542Z
DESCRIPTION:In the Spirit of Lennon is an intimate tribute to John Lennon. 
 Drew Harrison & Tommy Cosentino capture the intensity and delicate honesty
  that Lennon brought to the Beatles music\, and later to his own post-Beat
 les creations.
DTSTART;TZID=America/Chicago:20240921T190000
DTEND;TZID=America/Chicago:20240921T210000
LOCATION:205 E. Madison Ave.\, Iola\, KS 66749 US
SUMMARY:In the Spirit of Lennon
END:VEVENT
END:VCALENDAR
