BEGIN:VCALENDAR
VERSION:2.0
PRODID:-//www.bowluscenter.org//NONSGML kigkonsult.se iCalcreator 2.30.10//
CALSCALE:GREGORIAN
METHOD:PUBLISH
UID:26dbc7f7-f11c-49b4-a60d-c1269a4e1b2c
X-WR-CALDESC:Tickets are $5 at the door only! USD 257 Students & Staff are 
 Free.
X-WR-RELCALID:c4ad7fdbcf09e2cf19e096d9fb71bc0f
X-WR-TIMEZONE:America/Chicago
BEGIN:VTIMEZONE
TZID:America/Chicago
BEGIN:STANDARD
TZNAME:CST
DTSTART:20251102T020000
TZOFFSETFROM:-0500
TZOFFSETTO:-0600
RDATE:20261101T020000
END:STANDARD
BEGIN:DAYLIGHT
TZNAME:CDT
DTSTART:20260308T020000
TZOFFSETFROM:-0600
TZOFFSETTO:-0500
RDATE:20270314T020000
END:DAYLIGHT
END:VTIMEZONE
BEGIN:VEVENT
UID:968e45c9-fbfa-4aef-a216-36163251c49f
DTSTAMP:20260421T082003Z
DESCRIPTION:Tickets are $5 at the door only! USD 257 Students & Staff are F
 ree.
DTSTART;TZID=America/Chicago:20260409T190000
DTEND;TZID=America/Chicago:20260409T210000
LOCATION:205 E. Madison Ave.\, Iola\, KS 66749 US
SUMMARY:IHS Spring Play: DEADLINE
END:VEVENT
END:VCALENDAR
