BEGIN:VCALENDAR
VERSION:2.0
PRODID:-//www.bowluscenter.org//NONSGML kigkonsult.se iCalcreator 2.30.10//
CALSCALE:GREGORIAN
METHOD:PUBLISH
UID:698eafb7-766f-494f-9110-d4d3aa1ce072
X-WR-CALDESC:
X-WR-RELCALID:7f049befe76929f2611882455192f47f
X-WR-TIMEZONE:America/Chicago
BEGIN:VTIMEZONE
TZID:America/Chicago
BEGIN:STANDARD
TZNAME:CST
DTSTART:20251102T020000
TZOFFSETFROM:-0500
TZOFFSETTO:-0600
RDATE:20261101T020000
RDATE:20271107T020000
END:STANDARD
BEGIN:DAYLIGHT
TZNAME:CDT
DTSTART:20260308T020000
TZOFFSETFROM:-0600
TZOFFSETTO:-0500
RDATE:20270314T020000
END:DAYLIGHT
END:VTIMEZONE
BEGIN:VEVENT
UID:4f199e43-cb54-42c8-a07a-aaf4f1c1339d
DTSTAMP:20260423T121241Z
DESCRIPTION:
DTSTART;TZID=America/Chicago:20260508T050000
DTEND;TZID=America/Chicago:20260508T050001
LOCATION:205 E. Madison Ave.\, Iola\, KS 66749 US
SUMMARY:Little Oscars
END:VEVENT
END:VCALENDAR
