BEGIN:VCALENDAR
VERSION:2.0
PRODID:-//www.bowluscenter.org//NONSGML kigkonsult.se iCalcreator 2.30.10//
CALSCALE:GREGORIAN
METHOD:PUBLISH
UID:b3e47d66-98a3-4f0a-b161-2a104d2dec18
X-WR-CALDESC:Rehearsals are held in the Large Rehearsal Hall.
X-WR-RELCALID:27234f5223fdf355b97c8bc2289d0e31
X-WR-TIMEZONE:America/Chicago
BEGIN:VTIMEZONE
TZID:America/Chicago
BEGIN:STANDARD
TZNAME:CST
DTSTART:20251102T020000
TZOFFSETFROM:-0500
TZOFFSETTO:-0600
RDATE:20261101T020000
END:STANDARD
BEGIN:DAYLIGHT
TZNAME:CDT
DTSTART:20260308T020000
TZOFFSETFROM:-0600
TZOFFSETTO:-0500
RDATE:20270314T020000
END:DAYLIGHT
END:VTIMEZONE
BEGIN:VEVENT
UID:ca845142-2fe5-4e20-94d4-b0d8fea6861c
DTSTAMP:20260421T082835Z
DESCRIPTION:Rehearsals are held in the Large Rehearsal Hall.
DTSTART;TZID=America/Chicago:20260420T190000
DTEND;TZID=America/Chicago:20260420T210000
LOCATION:205 E. Madison Ave.\, Iola\, KS 66749 US
SUMMARY:Spring Orchestra Rehearsal
END:VEVENT
END:VCALENDAR
