BEGIN:VCALENDAR
VERSION:2.0
PRODID:-//www.bowluscenter.org//NONSGML kigkonsult.se iCalcreator 2.30.10//
CALSCALE:GREGORIAN
METHOD:PUBLISH
UID:4101e175-1e88-4f2c-8908-7a6097ea1be5
X-WR-CALDESC:Rehearsals are held in the Large Rehearsal Hall.
X-WR-RELCALID:a6b2cb4484aae7fbc7c787b2c9ffbcb1
X-WR-TIMEZONE:America/Chicago
BEGIN:VTIMEZONE
TZID:America/Chicago
BEGIN:STANDARD
TZNAME:CST
DTSTART:20251102T020000
TZOFFSETFROM:-0500
TZOFFSETTO:-0600
RDATE:20261101T020000
END:STANDARD
BEGIN:DAYLIGHT
TZNAME:CDT
DTSTART:20260308T020000
TZOFFSETFROM:-0600
TZOFFSETTO:-0500
RDATE:20270314T020000
END:DAYLIGHT
END:VTIMEZONE
BEGIN:VEVENT
UID:ddce7fab-66f3-4137-8b09-3b73d701b9ad
DTSTAMP:20260421T083141Z
DESCRIPTION:Rehearsals are held in the Large Rehearsal Hall.
DTSTART;TZID=America/Chicago:20260427T190000
DTEND;TZID=America/Chicago:20260427T210000
LOCATION:205 E. Madison Ave.\, Iola\, KS 66749 US
SUMMARY:Spring Orchestra Rehearsal
END:VEVENT
END:VCALENDAR
