BEGIN:VCALENDAR
VERSION:2.0
PRODID:-//www.bowluscenter.org//NONSGML kigkonsult.se iCalcreator 2.30.10//
CALSCALE:GREGORIAN
METHOD:PUBLISH
UID:84db7892-583b-44c0-bb75-cb26c2d8575f
X-WR-CALDESC:First rehearsal back for the Spring Performance!!
X-WR-RELCALID:c2d374deab783dfc609d2e6697812ca4
X-WR-TIMEZONE:America/Chicago
BEGIN:VTIMEZONE
TZID:America/Chicago
BEGIN:STANDARD
TZNAME:CST
DTSTART:20221106T020000
TZOFFSETFROM:-0500
TZOFFSETTO:-0600
RDATE:20231105T020000
END:STANDARD
BEGIN:DAYLIGHT
TZNAME:CDT
DTSTART:20220313T020000
TZOFFSETFROM:-0600
TZOFFSETTO:-0500
RDATE:20230312T020000
RDATE:20240310T020000
END:DAYLIGHT
END:VTIMEZONE
BEGIN:VEVENT
UID:6ff4ae92-340f-446d-8639-fdb9e6f5c7d5
DTSTAMP:20260425T234333Z
DESCRIPTION:First rehearsal back for the Spring Performance!!
DTSTART;TZID=America/Chicago:20230220T190000
DTEND;TZID=America/Chicago:20230220T200000
LOCATION:Bowlus Fine Arts Center Rehearsal Hall
SUMMARY:Iola Area Symphony Orchestra Rehearsal
END:VEVENT
END:VCALENDAR
