BEGIN:VCALENDAR
VERSION:2.0
PRODID:-//www.bowluscenter.org//NONSGML kigkonsult.se iCalcreator 2.30.10//
CALSCALE:GREGORIAN
METHOD:PUBLISH
UID:26d03981-21b4-4e17-b962-c85e5d27e60c
X-WR-CALDESC:Orchestra Rehearsal
X-WR-RELCALID:028124b8a7f2259c8243f39b81dbc136
X-WR-TIMEZONE:America/Chicago
BEGIN:VTIMEZONE
TZID:America/Chicago
BEGIN:STANDARD
TZNAME:CST
DTSTART:20221106T020000
TZOFFSETFROM:-0500
TZOFFSETTO:-0600
RDATE:20231105T020000
END:STANDARD
BEGIN:DAYLIGHT
TZNAME:CDT
DTSTART:20230312T020000
TZOFFSETFROM:-0600
TZOFFSETTO:-0500
RDATE:20240310T020000
END:DAYLIGHT
END:VTIMEZONE
BEGIN:VEVENT
UID:cf6f2327-ac65-4a5e-bcea-67049baca05e
DTSTAMP:20260425T222513Z
DESCRIPTION:Orchestra Rehearsal
DTSTART;TZID=America/Chicago:20230314T190000
DTEND;TZID=America/Chicago:20230314T210000
LOCATION:Bowlus Fine Arts Center Rehearsal Hall
SUMMARY:Iola Area Symphony Orchestra Rehearsal
END:VEVENT
END:VCALENDAR
