BEGIN:VCALENDAR
VERSION:2.0
PRODID:-//www.bowluscenter.org//NONSGML kigkonsult.se iCalcreator 2.30.10//
CALSCALE:GREGORIAN
METHOD:PUBLISH
UID:df54c182-13ae-4743-9550-2760d529cda3
X-WR-CALDESC:Rehearsal Hall
X-WR-RELCALID:f078c57e9898e10fff86eaa14505d1e0
X-WR-TIMEZONE:America/Chicago
BEGIN:VTIMEZONE
TZID:America/Chicago
BEGIN:STANDARD
TZNAME:CST
DTSTART:20231105T020000
TZOFFSETFROM:-0500
TZOFFSETTO:-0600
RDATE:20241103T020000
END:STANDARD
BEGIN:DAYLIGHT
TZNAME:CDT
DTSTART:20230312T020000
TZOFFSETFROM:-0600
TZOFFSETTO:-0500
RDATE:20240310T020000
RDATE:20250309T020000
END:DAYLIGHT
END:VTIMEZONE
BEGIN:VEVENT
UID:b660d918-847e-4f3d-aae4-7eefc21cabdc
DTSTAMP:20260425T013759Z
DESCRIPTION:Rehearsal Hall
DTSTART;TZID=America/Chicago:20240205T190000
DTEND;TZID=America/Chicago:20240205T210000
LOCATION:205 E. Madison Ave.\, Iola\, KS 66749 US
SUMMARY:Orchestra Rehearsal
END:VEVENT
END:VCALENDAR
