BEGIN:VCALENDAR
VERSION:2.0
PRODID:-//www.bowluscenter.org//NONSGML kigkonsult.se iCalcreator 2.30.10//
CALSCALE:GREGORIAN
METHOD:PUBLISH
UID:67aa167f-392f-46b4-8639-4138a5a72904
X-WR-CALDESC:
X-WR-RELCALID:09ea9e0e9423570f46057b9cd7c41106
X-WR-TIMEZONE:America/Chicago
BEGIN:VTIMEZONE
TZID:America/Chicago
BEGIN:STANDARD
TZNAME:CST
DTSTART:20231105T020000
TZOFFSETFROM:-0500
TZOFFSETTO:-0600
RDATE:20241103T020000
END:STANDARD
BEGIN:DAYLIGHT
TZNAME:CDT
DTSTART:20230312T020000
TZOFFSETFROM:-0600
TZOFFSETTO:-0500
RDATE:20240310T020000
RDATE:20250309T020000
END:DAYLIGHT
END:VTIMEZONE
BEGIN:VEVENT
UID:1105609a-5a28-4f00-8cf9-e281b31dc980
DTSTAMP:20260424T235737Z
DESCRIPTION:
DTSTART;TZID=America/Chicago:20240301T190000
DTEND;TZID=America/Chicago:20240301T210000
LOCATION:Bowlus Rehearsal Hall
SUMMARY:Orchestra Rehearsal
END:VEVENT
END:VCALENDAR
