BEGIN:VCALENDAR
VERSION:2.0
PRODID:-//www.bowluscenter.org//NONSGML kigkonsult.se iCalcreator 2.30.10//
CALSCALE:GREGORIAN
METHOD:PUBLISH
UID:99aa1f47-2a8e-4da9-9232-6aaeeb826323
X-WR-CALDESC:
X-WR-RELCALID:692b9e60661246f914893dc1371cb376
X-WR-TIMEZONE:America/Chicago
BEGIN:VTIMEZONE
TZID:America/Chicago
BEGIN:STANDARD
TZNAME:CST
DTSTART:20241103T020000
TZOFFSETFROM:-0500
TZOFFSETTO:-0600
RDATE:20251102T020000
END:STANDARD
BEGIN:DAYLIGHT
TZNAME:CDT
DTSTART:20240310T020000
TZOFFSETFROM:-0600
TZOFFSETTO:-0500
RDATE:20250309T020000
RDATE:20260308T020000
END:DAYLIGHT
END:VTIMEZONE
BEGIN:VEVENT
UID:776ecebf-24fd-4f08-a9b3-42059eba5481
DTSTAMP:20260422T065659Z
DESCRIPTION:
DTSTART;TZID=America/Chicago:20250113T050000
DTEND;TZID=America/Chicago:20250113T050001
LOCATION:Large Rehearsal Hall
SUMMARY:First Orchestra Rehearsal
END:VEVENT
END:VCALENDAR
