BEGIN:VCALENDAR
VERSION:2.0
PRODID:-//www.bowluscenter.org//NONSGML kigkonsult.se iCalcreator 2.30.10//
CALSCALE:GREGORIAN
METHOD:PUBLISH
UID:9fcb7123-9422-4f93-b084-060b8d6ee401
X-WR-CALDESC:Meeting in the Large Rehearsal Hall every Monday until Concert
 .
X-WR-RELCALID:8110a85451ad8e347e20b96e5b46e624
X-WR-TIMEZONE:America/Chicago
BEGIN:VTIMEZONE
TZID:America/Chicago
BEGIN:STANDARD
TZNAME:CST
DTSTART:20251102T020000
TZOFFSETFROM:-0500
TZOFFSETTO:-0600
RDATE:20261101T020000
END:STANDARD
BEGIN:DAYLIGHT
TZNAME:CDT
DTSTART:20250309T020000
TZOFFSETFROM:-0600
TZOFFSETTO:-0500
RDATE:20260308T020000
RDATE:20270314T020000
END:DAYLIGHT
END:VTIMEZONE
BEGIN:VEVENT
UID:74a65851-e3a3-45e4-9515-6becbcdd2f8e
DTSTAMP:20260421T100016Z
DESCRIPTION:Meeting in the Large Rehearsal Hall every Monday until Concert.
DTSTART;TZID=America/Chicago:20251110T190000
DTEND;TZID=America/Chicago:20251110T210000
LOCATION:205 E. Madison Ave.\, Iola\, KS 66749 US
SUMMARY:Orchestra Rehearsal
END:VEVENT
END:VCALENDAR
