BEGIN:VCALENDAR
VERSION:2.0
PRODID:-//www.bowluscenter.org//NONSGML kigkonsult.se iCalcreator 2.30.10//
CALSCALE:GREGORIAN
METHOD:PUBLISH
UID:07e10357-5025-4512-a869-856d311eb6e8
X-WR-CALDESC:Meeting in the Large Rehearsal Hall every Monday until Concert
 .
X-WR-RELCALID:861365966f3e4e03f90ef2ea1fec9700
X-WR-TIMEZONE:America/Chicago
BEGIN:VTIMEZONE
TZID:America/Chicago
BEGIN:STANDARD
TZNAME:CST
DTSTART:20241103T020000
TZOFFSETFROM:-0500
TZOFFSETTO:-0600
RDATE:20251102T020000
RDATE:20261101T020000
END:STANDARD
BEGIN:DAYLIGHT
TZNAME:CDT
DTSTART:20250309T020000
TZOFFSETFROM:-0600
TZOFFSETTO:-0500
RDATE:20260308T020000
RDATE:20270314T020000
END:DAYLIGHT
END:VTIMEZONE
BEGIN:VEVENT
UID:2ce2301a-6b92-49ea-8b76-fb1cadaca710
DTSTAMP:20260420T150028Z
DESCRIPTION:Meeting in the Large Rehearsal Hall every Monday until Concert.
DTSTART;TZID=America/Chicago:20250915T190000
DTEND;TZID=America/Chicago:20250915T210000
LOCATION:205 E. Madison Ave.\, Iola\, KS 66749 US
SUMMARY:Orchestra Rehearsal
END:VEVENT
END:VCALENDAR
