BEGIN:VCALENDAR
VERSION:2.0
PRODID:-//www.bowluscenter.org//NONSGML kigkonsult.se iCalcreator 2.30.10//
CALSCALE:GREGORIAN
METHOD:PUBLISH
UID:fcb46a8c-c930-4b46-87e7-9ceda667e2f2
X-WR-CALDESC:Meeting in the Large Rehearsal Hall every Monday until Concert
 .
X-WR-RELCALID:5bbd1410e393ae8e2f33c1102ef7e64e
X-WR-TIMEZONE:America/Chicago
BEGIN:VTIMEZONE
TZID:America/Chicago
BEGIN:STANDARD
TZNAME:CST
DTSTART:20241103T020000
TZOFFSETFROM:-0500
TZOFFSETTO:-0600
RDATE:20251102T020000
RDATE:20261101T020000
END:STANDARD
BEGIN:DAYLIGHT
TZNAME:CDT
DTSTART:20250309T020000
TZOFFSETFROM:-0600
TZOFFSETTO:-0500
RDATE:20260308T020000
RDATE:20270314T020000
END:DAYLIGHT
END:VTIMEZONE
BEGIN:VEVENT
UID:74c1d989-de45-44af-b2ef-73a900d0de22
DTSTAMP:20260420T145637Z
DESCRIPTION:Meeting in the Large Rehearsal Hall every Monday until Concert.
DTSTART;TZID=America/Chicago:20250929T190000
DTEND;TZID=America/Chicago:20250929T210000
LOCATION:205 E. Madison Ave.\, Iola\, KS 66749 US
SUMMARY:Orchestra Rehearsal
END:VEVENT
END:VCALENDAR
