BEGIN:VCALENDAR
VERSION:2.0
PRODID:-//www.bowluscenter.org//NONSGML kigkonsult.se iCalcreator 2.30.10//
CALSCALE:GREGORIAN
METHOD:PUBLISH
UID:765bd0ab-bdc8-4bfa-ad91-eacca41c0f1e
X-WR-CALDESC:Meeting in the Large Rehearsal Hall every Monday until Concert
 .
X-WR-RELCALID:72a00a95d7e55351972af14349daaed6
X-WR-TIMEZONE:America/Chicago
BEGIN:VTIMEZONE
TZID:America/Chicago
BEGIN:STANDARD
TZNAME:CST
DTSTART:20241103T020000
TZOFFSETFROM:-0500
TZOFFSETTO:-0600
RDATE:20251102T020000
RDATE:20261101T020000
END:STANDARD
BEGIN:DAYLIGHT
TZNAME:CDT
DTSTART:20250309T020000
TZOFFSETFROM:-0600
TZOFFSETTO:-0500
RDATE:20260308T020000
RDATE:20270314T020000
END:DAYLIGHT
END:VTIMEZONE
BEGIN:VEVENT
UID:d3c88911-9ca7-4abc-96eb-c607d526e44d
DTSTAMP:20260420T133635Z
DESCRIPTION:Meeting in the Large Rehearsal Hall every Monday until Concert.
DTSTART;TZID=America/Chicago:20251006T190000
DTEND;TZID=America/Chicago:20251006T210000
LOCATION:205 E. Madison Ave.\, Iola\, KS 66749 US
SUMMARY:Orchestra Rehearsal
END:VEVENT
END:VCALENDAR
