BEGIN:VCALENDAR
VERSION:2.0
PRODID:-//www.bowluscenter.org//NONSGML kigkonsult.se iCalcreator 2.30.10//
CALSCALE:GREGORIAN
METHOD:PUBLISH
UID:022fa656-aa35-4290-8762-de0d4cd3a5c6
X-WR-CALDESC:This performance will be on the Bowlus Main Stage! \nFree Will
  Donation Admission!
X-WR-RELCALID:136d1f999f18dd1fc33e2babbc6a44fe
X-WR-TIMEZONE:America/Chicago
BEGIN:VTIMEZONE
TZID:America/Chicago
BEGIN:STANDARD
TZNAME:CST
DTSTART:20251102T020000
TZOFFSETFROM:-0500
TZOFFSETTO:-0600
RDATE:20261101T020000
END:STANDARD
BEGIN:DAYLIGHT
TZNAME:CDT
DTSTART:20250309T020000
TZOFFSETFROM:-0600
TZOFFSETTO:-0500
RDATE:20260308T020000
RDATE:20270314T020000
END:DAYLIGHT
END:VTIMEZONE
BEGIN:VEVENT
UID:cde53f85-2a13-423f-be28-6486ce7ce627
DTSTAMP:20260420T120744Z
DESCRIPTION:This performance will be on the Bowlus Main Stage! \nFree Will 
 Donation Admission!
DTSTART;TZID=America/Chicago:20251122T190000
DTEND;TZID=America/Chicago:20251122T200000
LOCATION:205 E. Madison Ave.\, Iola\, KS 66749 US
SUMMARY:Iola Area Symphony Orchestra Performance
END:VEVENT
END:VCALENDAR
